BEGIN:VCALENDAR
VERSION:2.0
PRODID:-//ChamberMaster//Event Calendar 2.0//EN
METHOD:PUBLISH
X-PUBLISHED-TTL:P3D
REFRESH-INTERVAL:P3D
CALSCALE:GREGORIAN
BEGIN:VEVENT
DTSTART:20190514T160000Z
DTEND:20190514T190000Z
X-MICROSOFT-CDO-ALLDAYEVENT:FALSE
SUMMARY:FLO Yoga & Cycle FREE sessions sponsored by Synexus Research
DESCRIPTION:Please join us for a morning geared toward your health\, enjoy a free session at FLO Yoga & Cycle Sponsored by Synexus Research. We will be providing light refreshments after the sessions and an opportunity for you to learn more about research and studies that may be a benefit to you! There are 3 sessions: Cycle 9:15am- 9:50am http://bit.ly/FLOCycle Yoga for back and neck pain 9:30am-10:30am http://bit.ly/FLOYoga Buns n Guns 10:15am-11:00am http://bit.ly/FLOBunsGuns
X-ALT-DESC;FMTTYPE=text/html:Please join us for a morning geared toward your health\, enjoy a free session at FLO Yoga &amp\; Cycle Sponsored by Synexus Research. We will be providing light refreshments after the sessions and an opportunity for you to learn more about research and studies that may be a benefit to you! There are 3 sessions: Cycle 9:15am- 9:50am http://bit.ly/FLOCycle Yoga for back and neck pain 9:30am-10:30am http://bit.ly/FLOYoga Buns n Guns 10:15am-11:00am http://bit.ly/FLOBunsGuns
LOCATION:FLO Yoga & Cycle 71 E Frye Rd. Chandler\, AZ 85225
UID:e.1561.36708
SEQUENCE:3
DTSTAMP:20260423T021439Z
URL:https://business.chandlerchamber.com/events/details/flo-yoga-cycle-free-sessions-sponsored-by-synexus-research-36708
END:VEVENT

END:VCALENDAR
