BEGIN:VCALENDAR
VERSION:2.0
PRODID:-//ChamberMaster//Event Calendar 2.0//EN
METHOD:PUBLISH
X-PUBLISHED-TTL:P3D
REFRESH-INTERVAL:P3D
CALSCALE:GREGORIAN
BEGIN:VEVENT
DTSTART:20200724T143000Z
DTEND:20200724T153000Z
X-MICROSOFT-CDO-ALLDAYEVENT:FALSE
SUMMARY:Friday Morning Leads Group
DESCRIPTION:Chandler Chamber Friday Morning Lead/Referral Group\n\nVirtual Event
X-ALT-DESC;FMTTYPE=text/html:Chandler Chamber Friday Morning Lead/Referral Group<br />\nVirtual Event
LOCATION:
UID:e.1561.38613
SEQUENCE:3
DTSTAMP:20260424T211044Z
URL:https://business.chandlerchamber.com/events/details/friday-morning-leads-group-07-24-2020-38613
END:VEVENT

END:VCALENDAR
