BEGIN:VCALENDAR
VERSION:2.0
PRODID:-//ChamberMaster//Event Calendar 2.0//EN
METHOD:PUBLISH
X-PUBLISHED-TTL:P3D
REFRESH-INTERVAL:P3D
CALSCALE:GREGORIAN
BEGIN:VEVENT
DTSTART:20180524T010000Z
DTEND:20180524T025000Z
X-MICROSOFT-CDO-ALLDAYEVENT:FALSE
SUMMARY:Friends Buy From Friends: Relationship Selling to Grow Your Business
DESCRIPTION:The most successful salespeople are those who are capable of entering into and maintaining the highest-quality relationships with buyers and recommend them to their friends and associates. Here you will learn the key elements of relationship building and relationship selling and how you can apply them to every part of your sales activities.
X-ALT-DESC;FMTTYPE=text/html:The most successful salespeople are those who are capable of entering into and maintaining the highest-quality relationships with buyers and recommend them to their friends and associates. Here you will learn the key elements of relationship building and relationship selling and how you can apply them to every part of your sales activities.
LOCATION:Tempe Public Library 3500 S Rural Rd BRIC Tempe\, AZ\, 85282
UID:e.1561.33668
SEQUENCE:3
DTSTAMP:20260423T194006Z
URL:https://business.chandlerchamber.com/events/details/friends-buy-from-friends-relationship-selling-to-grow-your-business-33668
END:VEVENT

END:VCALENDAR
