BEGIN:VCALENDAR
VERSION:2.0
PRODID:-//ChamberMaster//Event Calendar 2.0//EN
METHOD:PUBLISH
X-PUBLISHED-TTL:P3D
REFRESH-INTERVAL:P3D
CALSCALE:GREGORIAN
BEGIN:VEVENT
DTSTART;VALUE=DATE:20190501
DTEND;VALUE=DATE:20190516
TRANSP:TRANSPARENT
X-MICROSOFT-CDO-ALLDAYEVENT:TRUE
SUMMARY:Friends of the Library Clearance Book Sale
DESCRIPTION:The Friends of the Chandler Public Library will have a clearance sale of all used book with a green sticker\, 50% off the marked price! Downtown and Sunset locations only\, during regular business  hours.
X-ALT-DESC;FMTTYPE=text/html:The Friends of the Chandler Public Library will have a clearance sale of all used book with a green sticker\, 50% off the marked price! Downtown and Sunset locations only\, during regular business  hours.
LOCATION:Chandler Downtown Library - 22 S Delaware Street Chandler Sunset Library - 49so W Ray Road
UID:e.1561.36697
SEQUENCE:3
DTSTAMP:20260423T033629Z
URL:https://business.chandlerchamber.com/events/details/friends-of-the-library-clearance-book-sale-36697
END:VEVENT

END:VCALENDAR
