BEGIN:VCALENDAR
VERSION:2.0
PRODID:-//ChamberMaster//Event Calendar 2.0//EN
METHOD:PUBLISH
X-PUBLISHED-TTL:P3D
REFRESH-INTERVAL:P3D
CALSCALE:GREGORIAN
BEGIN:VEVENT
DTSTART:20191122T000000Z
DTEND:20191122T020000Z
X-MICROSOFT-CDO-ALLDAYEVENT:FALSE
SUMMARY:From Employee to Entrepreneur
DESCRIPTION:The Chandler Chamber of Commerce\, along with Palette Collective and The City of Chandler Economic Development Division\, celebrate Global Entrepreneurship Week (Nov. 18-22) by hosting a panel discussion with local entrepreneurs focused on taking the plunge into business ownership and their journeys from employee to entrepreneur. \n\n\n\nThe panelists will discuss their mindset as they took the plunge into the world of being their own boss and the obstacles and pitfalls they overcame to build successful businesses. They also will share how their entrepreneurial journey evolved into elevating their own personal brands.\n\n\n\nThis event is ideal for local Arizona small business owners and/or people with business Ideas looking to start their journey. \n\n\n\nPanelists: \n\n1. Dr. Corey Menke\, founder of In Align Chiropractic Arizona\n\n2. Jenny Poondingo\, founder and CEO of CO+HOOTS Phoenix\n\n3. Avauntee Andrepoint\, author of "The Start-Up Guide to Success and Sustainability"\n\n4. Kathy Cano-Murillo\, founder of Crafty Chica by Kathy Cano-Murillo \n\n\n\nPanel Moderator: Seth Wells\, Owner & Founder of Palette Collective\n\n\n\nFood Sponsor: Mingle + Graze
X-ALT-DESC;FMTTYPE=text/html:<span style="color: rgb(29\, 33\, 41)\; font-family: system-ui\, -apple-system\, system-ui\, &quot\;.SFNSText-Regular&quot\;\, sans-serif\; font-size: 14px\; white-space: pre-wrap\;">The Chandler Chamber of Commerce\, along with Palette Collective and The City of Chandler Economic Development Division\, celebrate Global Entrepreneurship Week (Nov. 18-22) by hosting a panel discussion with local entrepreneurs focused on taking the plunge into business ownership and their journeys from employee to entrepreneur. </span><br style="color: rgb(29\, 33\, 41)\; font-family: system-ui\, -apple-system\, system-ui\, &quot\;.SFNSText-Regular&quot\;\, sans-serif\; font-size: 14px\; white-space: pre-wrap\;" />\n<br style="color: rgb(29\, 33\, 41)\; font-family: system-ui\, -apple-system\, system-ui\, &quot\;.SFNSText-Regular&quot\;\, sans-serif\; font-size: 14px\; white-space: pre-wrap\;" />\n<span style="color: rgb(29\, 33\, 41)\; font-family: system-ui\, -apple-system\, system-ui\, &quot\;.SFNSText-Regular&quot\;\, sans-serif\; font-size: 14px\; white-space: pre-wrap\;">The panelists will discuss their mindset as they took the plunge into the world of being their own boss and the obstacles and pitfalls they overcame to build successful businesses. They also will share how their entrepreneurial journey evolved into elevating their own personal brands.</span><br style="color: rgb(29\, 33\, 41)\; font-family: system-ui\, -apple-system\, system-ui\, &quot\;.SFNSText-Regular&quot\;\, sans-serif\; font-size: 14px\; white-space: pre-wrap\;" />\n<br style="color: rgb(29\, 33\, 41)\; font-family: system-ui\, -apple-system\, system-ui\, &quot\;.SFNSText-Regular&quot\;\, sans-serif\; font-size: 14px\; white-space: pre-wrap\;" />\n<span style="color: rgb(29\, 33\, 41)\; font-family: system-ui\, -apple-system\, system-ui\, &quot\;.SFNSText-Regular&quot\;\, sans-serif\; font-size: 14px\; white-space: pre-wrap\;">This event is ideal for local Arizona small business owners and/or people with business Ideas looking to start their journey. </span><br style="color: rgb(29\, 33\, 41)\; font-family: system-ui\, -apple-system\, system-ui\, &quot\;.SFNSText-Regular&quot\;\, sans-serif\; font-size: 14px\; white-space: pre-wrap\;" />\n<br style="color: rgb(29\, 33\, 41)\; font-family: system-ui\, -apple-system\, system-ui\, &quot\;.SFNSText-Regular&quot\;\, sans-serif\; font-size: 14px\; white-space: pre-wrap\;" />\n<span style="color: rgb(29\, 33\, 41)\; font-family: system-ui\, -apple-system\, system-ui\, &quot\;.SFNSText-Regular&quot\;\, sans-serif\; font-size: 14px\; white-space: pre-wrap\;">Panelists: </span><br style="color: rgb(29\, 33\, 41)\; font-family: system-ui\, -apple-system\, system-ui\, &quot\;.SFNSText-Regular&quot\;\, sans-serif\; font-size: 14px\; white-space: pre-wrap\;" />\n<span style="color: rgb(29\, 33\, 41)\; font-family: system-ui\, -apple-system\, system-ui\, &quot\;.SFNSText-Regular&quot\;\, sans-serif\; font-size: 14px\; white-space: pre-wrap\;">1. Dr. Corey Menke\, founder of In Align Chiropractic Arizona</span><br style="color: rgb(29\, 33\, 41)\; font-family: system-ui\, -apple-system\, system-ui\, &quot\;.SFNSText-Regular&quot\;\, sans-serif\; font-size: 14px\; white-space: pre-wrap\;" />\n<span style="color: rgb(29\, 33\, 41)\; font-family: system-ui\, -apple-system\, system-ui\, &quot\;.SFNSText-Regular&quot\;\, sans-serif\; font-size: 14px\; white-space: pre-wrap\;">2. Jenny Poondingo\, founder and CEO of CO+HOOTS Phoenix</span><br style="color: rgb(29\, 33\, 41)\; font-family: system-ui\, -apple-system\, system-ui\, &quot\;.SFNSText-Regular&quot\;\, sans-serif\; font-size: 14px\; white-space: pre-wrap\;" />\n<span style="color: rgb(29\, 33\, 41)\; font-family: system-ui\, -apple-system\, system-ui\, &quot\;.SFNSText-Regular&quot\;\, sans-serif\; font-size: 14px\; white-space: pre-wrap\;">3. Avauntee Andrepoint\, author of &quot\;The Start-Up Guide to Success and Sustainability&rdquo\;</span><br style="color: rgb(29\, 33\, 41)\; font-family: system-ui\, -apple-system\, system-ui\, &quot\;.SFNSText-Regular&quot\;\, sans-serif\; font-size: 14px\; white-space: pre-wrap\;" />\n<span style="color: rgb(29\, 33\, 41)\; font-family: system-ui\, -apple-system\, system-ui\, &quot\;.SFNSText-Regular&quot\;\, sans-serif\; font-size: 14px\; white-space: pre-wrap\;">4. Kathy Cano-Murillo\, founder of Crafty Chica by Kathy Cano-Murillo </span><br style="color: rgb(29\, 33\, 41)\; font-family: system-ui\, -apple-system\, system-ui\, &quot\;.SFNSText-Regular&quot\;\, sans-serif\; font-size: 14px\; white-space: pre-wrap\;" />\n<br style="color: rgb(29\, 33\, 41)\; font-family: system-ui\, -apple-system\, system-ui\, &quot\;.SFNSText-Regular&quot\;\, sans-serif\; font-size: 14px\; white-space: pre-wrap\;" />\n<span style="color: rgb(29\, 33\, 41)\; font-family: system-ui\, -apple-system\, system-ui\, &quot\;.SFNSText-Regular&quot\;\, sans-serif\; font-size: 14px\; white-space: pre-wrap\;">Panel Moderator: Seth Wells\, Owner &amp\; Founder of Palette Collective</span><br style="color: rgb(29\, 33\, 41)\; font-family: system-ui\, -apple-system\, system-ui\, &quot\;.SFNSText-Regular&quot\;\, sans-serif\; font-size: 14px\; white-space: pre-wrap\;" />\n<br style="color: rgb(29\, 33\, 41)\; font-family: system-ui\, -apple-system\, system-ui\, &quot\;.SFNSText-Regular&quot\;\, sans-serif\; font-size: 14px\; white-space: pre-wrap\;" />\n<span style="color: rgb(29\, 33\, 41)\; font-family: system-ui\, -apple-system\, system-ui\, &quot\;.SFNSText-Regular&quot\;\, sans-serif\; font-size: 14px\; white-space: pre-wrap\;">Food Sponsor: Mingle + Graze </span>
LOCATION:Palette Collective 505 S. Chandler Village Drive
UID:e.1561.38061
SEQUENCE:3
DTSTAMP:20260419T182119Z
URL:https://business.chandlerchamber.com/events/details/from-employee-to-entrepreneur-38061
END:VEVENT

END:VCALENDAR
