BEGIN:VCALENDAR
VERSION:2.0
PRODID:-//ChamberMaster//Event Calendar 2.0//EN
METHOD:PUBLISH
X-PUBLISHED-TTL:P3D
REFRESH-INTERVAL:P3D
CALSCALE:GREGORIAN
BEGIN:VEVENT
DTSTART:20180418T180000Z
DTEND:20180418T200000Z
X-MICROSOFT-CDO-ALLDAYEVENT:FALSE
SUMMARY:From Mission to Strategic plan to Programs\, Are you effective?
DESCRIPTION:How do you know? Improve your ability to see and understand whether or not you are meeting your goals. You need to know for yourselves. Your donors\, grantors and others are also asking you this question.
X-ALT-DESC;FMTTYPE=text/html:How do you know? Improve your ability to see and understand whether or not you are meeting your goals. You need to know for yourselves. Your donors\, grantors and others are also asking you this question.
LOCATION:Chandler Police substation\, 251 Desert Breeze Blvd\, Chandler\, AZ 85226. The station is just off of Chandler Blvd between Rural Rd and McClintock. There is a traffic light at Desert Breeze Blvd. Go north on Desert Breeze\, Police/Fire station will be on your right. Look for the "Collaborating for a Cause" sign at the public parking entrance. Contact phone: 480-861-5185
UID:e.1561.33617
SEQUENCE:3
DTSTAMP:20260423T193255Z
URL:https://business.chandlerchamber.com/events/details/from-mission-to-strategic-plan-to-programs-are-you-effective-33617
END:VEVENT

END:VCALENDAR
