BEGIN:VCALENDAR
VERSION:2.0
PRODID:-//ChamberMaster//Event Calendar 2.0//EN
METHOD:PUBLISH
X-PUBLISHED-TTL:P3D
REFRESH-INTERVAL:P3D
CALSCALE:GREGORIAN
BEGIN:VEVENT
DTSTART:20201121T150000Z
DTEND:20201121T170000Z
X-MICROSOFT-CDO-ALLDAYEVENT:FALSE
SUMMARY:From Stable to Saddle
DESCRIPTION:Come in your work clothes. Barnyard Equine is having a work day. Shovel stalls\, organize\, materials\, clean helmets\, sort therapy equipment etc... lots of jobs available. Children are welcome to come along and work together as a family. Giving back to the community. This is a facility that houses 25 horses and provides riding and equine therapy for children and adults with disabilities. Sponsored by Patti and Larry Mamalis with Power word Postcards and Thrivent Financial. First 25 participants will receive a free t-shirt.
X-ALT-DESC;FMTTYPE=text/html:Come in your work clothes. Barnyard Equine is having a work day. Shovel stalls\, organize\, materials\, clean helmets\, sort therapy equipment etc... lots of jobs available. Children are welcome to come along and work together as a family. Giving back to the community. This is a facility that houses 25 horses and provides riding and equine therapy for children and adults with disabilities. Sponsored by Patti and Larry Mamalis with Power word Postcards and Thrivent Financial. First 25 participants will receive a free t-shirt.
LOCATION:Barnyard Equine 13902 E Morgan Gilbert AZ 85295
UID:e.1561.39301
SEQUENCE:3
DTSTAMP:20260425T033812Z
URL:https://business.chandlerchamber.com/events/details/from-stable-to-saddle-39301
END:VEVENT

END:VCALENDAR
