BEGIN:VCALENDAR
VERSION:2.0
PRODID:-//ChamberMaster//Event Calendar 2.0//EN
METHOD:PUBLISH
X-PUBLISHED-TTL:P3D
REFRESH-INTERVAL:P3D
CALSCALE:GREGORIAN
BEGIN:VEVENT
DTSTART:20190606T210000Z
DTEND:20190606T220000Z
X-MICROSOFT-CDO-ALLDAYEVENT:FALSE
SUMMARY:Generating Leads Through YouTube
DESCRIPTION:Whether you're a realtor or business owner who's completely new to YouTube (or video content in general)\, have some experience\, or consider yourself to be a pro... You'll learn tons of viable information for growing your business during this class! Shawn has built up a following of over 300\,000 subscribers and amassed over 70\,000\,000 video views on a single YouTube channel. Since 2011\, he's been building\, managing\, and working with thousands of YouTube channels to build their brand. Now Shawn's goal is to help others generate some serious business by applying this knowledge specifically to the real estate world!!
X-ALT-DESC;FMTTYPE=text/html:Whether you&#39\;re a realtor or business owner who&#39\;s completely new to YouTube (or video content in general)\, have some experience\, or consider yourself to be a pro... You&#39\;ll learn tons of viable information for growing your business during this class! Shawn has built up a following of over 300\,000 subscribers and amassed over 70\,000\,000 video views on a single YouTube channel. Since 2011\, he&#39\;s been building\, managing\, and working with thousands of YouTube channels to build their brand. Now Shawn&rsquo\;s goal is to help others generate some serious business by applying this knowledge specifically to the real estate world!!
LOCATION:The Forum 2301 S Stearman Dr\, Chandler\, AZ 85286
UID:e.1561.36732
SEQUENCE:3
DTSTAMP:20260423T003602Z
URL:https://business.chandlerchamber.com/events/details/generating-leads-through-youtube-36732
END:VEVENT

END:VCALENDAR
