BEGIN:VCALENDAR
VERSION:2.0
PRODID:-//ChamberMaster//Event Calendar 2.0//EN
METHOD:PUBLISH
X-PUBLISHED-TTL:P3D
REFRESH-INTERVAL:P3D
CALSCALE:GREGORIAN
BEGIN:VEVENT
DTSTART:20221030T023000Z
DTEND:20221030T023000Z
X-MICROSOFT-CDO-ALLDAYEVENT:FALSE
SUMMARY:George Benson
DESCRIPTION:George Benson\, iconic American guitarist\, NEA Jazz Master\, and 10-time GRAMMY winner is coming to the CCA main stage. This legendary performer has the rare distinction of being in the pop consciousness while remaining in the pantheon of jazz greats. As a singer-songwriter\, he fearlessly follows the melody across genres and eras\, as well as defies expectations with elegance and imagination. His honeyed vocals\, guitar lines that veer from lyrical to dazzling\, and his penchant for slick grooves have led to collaborations with musicians like Stevie Wonder\, Quincy Jones\, Idina Menzel\, and Steve Aoki\, and the Gorillaz. Now at the age of 78\, he has been recording albums for seven decades\, starting his career at the age of nine.
X-ALT-DESC;FMTTYPE=text/html:George Benson\, iconic American guitarist\, NEA Jazz Master\, and 10-time GRAMMY winner is coming to the CCA main stage. This legendary performer has the rare distinction of being in the pop consciousness while remaining in the pantheon of jazz greats. As a singer-songwriter\, he fearlessly follows the melody across genres and eras\, as well as defies expectations with elegance and imagination. His honeyed vocals\, guitar lines that veer from lyrical to dazzling\, and his penchant for slick grooves have led to collaborations with musicians like Stevie Wonder\, Quincy Jones\, Idina Menzel\, and Steve Aoki\, and the Gorillaz. Now at the age of 78\, he has been recording albums for seven decades\, starting his career at the age of nine.
LOCATION:Chandler Center for the Arts
UID:e.1561.40695
SEQUENCE:3
DTSTAMP:20260423T190909Z
URL:https://business.chandlerchamber.com/events/details/george-benson-40695
END:VEVENT

END:VCALENDAR
