BEGIN:VCALENDAR
VERSION:2.0
PRODID:-//ChamberMaster//Event Calendar 2.0//EN
METHOD:PUBLISH
X-PUBLISHED-TTL:P3D
REFRESH-INTERVAL:P3D
CALSCALE:GREGORIAN
BEGIN:VEVENT
DTSTART:20170709T000000Z
DTEND:20170709T050000Z
X-MICROSOFT-CDO-ALLDAYEVENT:FALSE
SUMMARY:Girl Scouts' Parsons Leadership Center to Host Family Fun Nights this Summer
DESCRIPTION:The Girl Scouts   Arizona Cactus-Pine Council's newest summer camp location\, the Bob & Renee Parsons Leadership Center for Girls and Women at Camp South Mountain\, will be hosting Family Fun Nights on June 10\, June 24\, July 8 and July 22. These are a great opportunity for families to experience all the activities held at Girl Scout summer camps together. Activities will include swimming\, archery\, arts and crafts\, nature exploration\, games\, songs and more! Snacks and beverages will be provided. Family Fun Nights are open to the entire family and cost $7 for adults and $12 for children 4 years and older. Children less than 4 are free!
X-ALT-DESC;FMTTYPE=text/html:The Girl Scouts &ndash\; Arizona Cactus-Pine Council&rsquo\;s newest summer camp location\, the Bob &amp\; Renee Parsons Leadership Center for Girls and Women at Camp South Mountain\, will be hosting Family Fun Nights on June 10\, June 24\, July 8 and July 22. These are a great opportunity for families to experience all the activities held at Girl Scout summer camps together. Activities will include swimming\, archery\, arts and crafts\, nature exploration\, games\, songs and more! Snacks and beverages will be provided. Family Fun Nights are open to the entire family and cost $7 for adults and $12 for children 4 years and older. Children less than 4 are free!
LOCATION:The Bob & Renee Parsons Leadership Center for Girls and Women at Camp South Mountain 1611 E. Dobbins Road Phoenix\, AZ 85042
UID:e.1561.19073
SEQUENCE:3
DTSTAMP:20260424T080735Z
URL:https://business.chandlerchamber.com/events/details/girl-scouts-parsons-leadership-center-to-host-family-fun-nights-this-summer-07-08-2017-19073
END:VEVENT

END:VCALENDAR
