BEGIN:VCALENDAR
VERSION:2.0
PRODID:-//ChamberMaster//Event Calendar 2.0//EN
METHOD:PUBLISH
X-PUBLISHED-TTL:P3D
REFRESH-INTERVAL:P3D
CALSCALE:GREGORIAN
BEGIN:VEVENT
DTSTART:20170915T130000Z
DTEND:20170915T213000Z
X-MICROSOFT-CDO-ALLDAYEVENT:FALSE
SUMMARY:Golf Tournament - September 15\, 2017
DESCRIPTION:Don't miss the 16th Annual Chandler Chamber Charity Golf Tournament.\n\nEnjoy a fun-filled day on the beautiful Whirlwind Golf Course!  Raffles\, contest prizes\, great food and beverages! \n\nA portion of the proceeds helps to fund the Chandler Chamber Community Foundation Scholarship Fund.\n\n\n\nBreakfast & Registration: 6:00 AM\n\nCall to Carts: 7:00 AM\n\n\n\nCLICK HERE FOR SPONSORSHIP INFORMATION.
X-ALT-DESC;FMTTYPE=text/html:<p>Don&#39\;t miss the 16th Annual Chandler Chamber Charity Golf Tournament.<br />\nEnjoy a fun-filled day on the beautiful Whirlwind Golf Course! &nbsp\;Raffles\, contest prizes\, great food and beverages!&nbsp\;</p>\n\n<p>A portion of the proceeds helps to fund the Chandler Chamber Community Foundation Scholarship Fund.<br />\n<br />\nBreakfast &amp\; Registration: 6:00 AM<br />\nCall to Carts: 7:00 AM<br />\n<br />\n<a href="mailto:Maryann@chandlerchamber.com?subject=Golf%20Tournament">CLICK HERE</a> FOR SPONSORSHIP INFORMATION.</p>\n
LOCATION:Whirlwind Golf Club 5692 West North Loop Road Chandler\, AZ 85226
UID:e.1561.18852
SEQUENCE:3
DTSTAMP:20260424T051000Z
URL:https://business.chandlerchamber.com/events/details/golf-tournament-september-15-2017-18852
END:VEVENT

END:VCALENDAR
