BEGIN:VCALENDAR
VERSION:2.0
PRODID:-//ChamberMaster//Event Calendar 2.0//EN
METHOD:PUBLISH
X-PUBLISHED-TTL:P3D
REFRESH-INTERVAL:P3D
CALSCALE:GREGORIAN
BEGIN:VEVENT
DTSTART:20150918T130000Z
DTEND:20150918T210000Z
X-MICROSOFT-CDO-ALLDAYEVENT:FALSE
SUMMARY:Golf Tournament - September 18\, 2015
DESCRIPTION:The 14th Annual Chandler Chamber Golf Tournament\n\n\n\nBreakfast: 6:00 AM\n\nShotgun Start: 7:30 AM
X-ALT-DESC;FMTTYPE=text/html:The 14th Annual Chandler Chamber Golf Tournament<br />\n<br />\nBreakfast: 6:00 AM<br />\nShotgun Start: 7:30 AM<br />\n&nbsp\;
LOCATION:Whirlwind Golf Club 5692 West North Loop Road Chandler\, AZ 85226
UID:e.1561.12483
SEQUENCE:3
DTSTAMP:20260425T165958Z
URL:https://business.chandlerchamber.com/events/details/golf-tournament-september-18-2015-09-18-2015-12483
END:VEVENT

END:VCALENDAR
