BEGIN:VCALENDAR
VERSION:2.0
PRODID:-//ChamberMaster//Event Calendar 2.0//EN
METHOD:PUBLISH
X-PUBLISHED-TTL:P3D
REFRESH-INTERVAL:P3D
CALSCALE:GREGORIAN
BEGIN:VEVENT
DTSTART:20200415T170000Z
DTEND:20200516T050000Z
X-MICROSOFT-CDO-ALLDAYEVENT:FALSE
SUMMARY:Golfland Emergency Food Drive
DESCRIPTION:Drop off your food donation at Golfland Sunsplash on the back patio. For every food item donated\, you will receive a buy one\, get one mini golf voucher.
X-ALT-DESC;FMTTYPE=text/html:Drop off your food donation at Golfland Sunsplash on the back patio. For every food item donated\, you will receive a buy one\, get one mini golf voucher.
LOCATION:Country Club & US60
UID:e.1561.38955
SEQUENCE:3
DTSTAMP:20260424T152152Z
URL:https://business.chandlerchamber.com/events/details/golfland-emergency-food-drive-38955
END:VEVENT

END:VCALENDAR
