BEGIN:VCALENDAR
VERSION:2.0
PRODID:-//ChamberMaster//Event Calendar 2.0//EN
METHOD:PUBLISH
X-PUBLISHED-TTL:P3D
REFRESH-INTERVAL:P3D
CALSCALE:GREGORIAN
BEGIN:VEVENT
DTSTART:20251124T163000Z
DTEND:20251124T173000Z
X-MICROSOFT-CDO-ALLDAYEVENT:FALSE
SUMMARY:Gourmet Coffee etc...
DESCRIPTION:Courtesy Coffee & Tea Chat... at Mary Contreras State Farm Agency\, Hey\, maybe "Jake" will pop in! Get to meet our team: Hosted by Mary Ann Puzzitiello on behalf of Mary Contreras State Farm Agency. "Grateful Joe" where coffee meets sunshine!
X-ALT-DESC;FMTTYPE=text/html:Courtesy Coffee &amp\; Tea Chat... at Mary Contreras State Farm Agency\, Hey\, maybe &quot\;Jake&quot\; will pop in! Get to meet our team: Hosted by Mary Ann Puzzitiello on behalf of Mary Contreras State Farm Agency. &quot\;Grateful Joe&quot\; where coffee meets sunshine!
LOCATION:2145 E Warner Rd.\, Suite 101 Tempe\, AZ 85284 (borderline Chandler/Tempe)
UID:e.1561.51922
SEQUENCE:3
DTSTAMP:20260424T063653Z
URL:https://business.chandlerchamber.com/events/details/gourmet-coffee-etc-51922
END:VEVENT

END:VCALENDAR
