BEGIN:VCALENDAR
VERSION:2.0
PRODID:-//ChamberMaster//Event Calendar 2.0//EN
METHOD:PUBLISH
X-PUBLISHED-TTL:P3D
REFRESH-INTERVAL:P3D
CALSCALE:GREGORIAN
BEGIN:VEVENT
DTSTART:20180609T170000Z
DTEND:20180609T200000Z
X-MICROSOFT-CDO-ALLDAYEVENT:FALSE
SUMMARY:Grand Opening Celebration
DESCRIPTION:Grand Opening Celebration at The Enclave at Chandler. Join our celebration as we welcome our residents and the community! Meet your new neighbors and enjoy local food trucks and music.
X-ALT-DESC;FMTTYPE=text/html:Grand Opening Celebration at The Enclave at Chandler. Join our celebration as we welcome our residents and the community! Meet your new neighbors and enjoy local food trucks and music.
LOCATION:The Enclave at Chandler 4950 West Chandler Blvd Chandler\, AZ 85226
UID:e.1561.33684
SEQUENCE:3
DTSTAMP:20260423T163259Z
URL:https://business.chandlerchamber.com/events/details/grand-opening-celebration-33684
END:VEVENT

END:VCALENDAR
