BEGIN:VCALENDAR
VERSION:2.0
PRODID:-//ChamberMaster//Event Calendar 2.0//EN
METHOD:PUBLISH
X-PUBLISHED-TTL:P3D
REFRESH-INTERVAL:P3D
CALSCALE:GREGORIAN
BEGIN:VEVENT
DTSTART:20260109T010000Z
DTEND:20260109T023000Z
X-MICROSOFT-CDO-ALLDAYEVENT:FALSE
SUMMARY:Grand Opening Celebration- Best LIfe Chiro & Wellness
DESCRIPTION:We are celebrating the Grand Opening of Best Life Chiropractic and Wellness in Chandler off of McQueen & Pecos. -Food and Drinks provided! -Come tour the clinic and see what wellness and regenerative health specials we are offering. - FREE Vitamin B-12 shots to the first 25 attendees -Vendor demonstrations and giveaways. - Raffle prizes for amazing gift baskets.
X-ALT-DESC;FMTTYPE=text/html:We are celebrating the Grand Opening of Best Life Chiropractic and Wellness in Chandler off of McQueen &amp\; Pecos. -Food and Drinks provided! -Come tour the clinic and see what wellness and regenerative health specials we are offering. - FREE Vitamin B-12 shots to the first 25 attendees -Vendor demonstrations and giveaways. - Raffle prizes for amazing gift baskets.
LOCATION:Best Life Chiropractic & Wellness 980 E Pecos Rd Ste #3 Chandler\, Az 85225 Please RSVP here: https://www.ticketleap.events/tickets/bestlifechiropractic/best-life-open-house
UID:e.1561.52024
SEQUENCE:3
DTSTAMP:20260424T035356Z
URL:https://business.chandlerchamber.com/events/details/grand-opening-celebration-best-life-chiro-wellness-52024
END:VEVENT

END:VCALENDAR
