BEGIN:VCALENDAR
VERSION:2.0
PRODID:-//ChamberMaster//Event Calendar 2.0//EN
METHOD:PUBLISH
X-PUBLISHED-TTL:P3D
REFRESH-INTERVAL:P3D
CALSCALE:GREGORIAN
BEGIN:VEVENT
DTSTART:20180808T160000Z
DTEND:20180808T170000Z
X-MICROSOFT-CDO-ALLDAYEVENT:FALSE
SUMMARY:Grand Opening of the Chandler Public Safety Training Center
DESCRIPTION:Grand Opening of the Chandler Public Safety Training Center
X-ALT-DESC;FMTTYPE=text/html:Grand Opening of the Chandler Public Safety Training Center&nbsp\;&nbsp\;&nbsp\;&nbsp\;&nbsp\;&nbsp\;&nbsp\;&nbsp\;
LOCATION:3550 S Dobson Rd Chandler\, AZ 85248
UID:e.1561.33702
SEQUENCE:3
DTSTAMP:20260423T140126Z
URL:https://business.chandlerchamber.com/events/details/grand-opening-of-the-chandler-public-safety-training-center-33702
END:VEVENT

END:VCALENDAR
