BEGIN:VCALENDAR
VERSION:2.0
PRODID:-//ChamberMaster//Event Calendar 2.0//EN
METHOD:PUBLISH
X-PUBLISHED-TTL:P3D
REFRESH-INTERVAL:P3D
CALSCALE:GREGORIAN
BEGIN:VEVENT
DTSTART:20180522T150000Z
DTEND:20180522T160000Z
X-MICROSOFT-CDO-ALLDAYEVENT:FALSE
SUMMARY:Ground Breaking: WingSpan Aviation Center
DESCRIPTION:WingSpan Aviation Center: Chandler\n\nGroundbreaking Ceremony
X-ALT-DESC;FMTTYPE=text/html:WingSpan&nbsp\;Aviation Center: Chandler<br />\nGroundbreaking Ceremony
LOCATION:Chandler Municipal Airport 2380 Stinson Way Chandler\, AZ 85286 (take Cooper south past Germann. Turn right at the traffic circle on Aviation Blvd. Ceremony will be held on the SE corner of Aviation Dr and Curtis Way. Event parking is available at the southwest corner of Aviation Dr & Curtis Way.
UID:e.1561.32599
SEQUENCE:3
DTSTAMP:20260423T180820Z
URL:https://business.chandlerchamber.com/events/details/ground-breaking-wingspan-aviation-center-32599
END:VEVENT

END:VCALENDAR
