BEGIN:VCALENDAR
VERSION:2.0
PRODID:-//ChamberMaster//Event Calendar 2.0//EN
METHOD:PUBLISH
X-PUBLISHED-TTL:P3D
REFRESH-INTERVAL:P3D
CALSCALE:GREGORIAN
BEGIN:VEVENT
DTSTART:20190426T023000Z
DTEND:20190426T043000Z
X-MICROSOFT-CDO-ALLDAYEVENT:FALSE
SUMMARY:Guardian’s Gala
DESCRIPTION:Join us for a free dinner and learn about local efforts in the prevention of child abuse. Become a Guardian of the Innocent and help our community.
X-ALT-DESC;FMTTYPE=text/html:Join us for a free dinner and learn about local efforts in the prevention of child abuse. Become a Guardian of the Innocent and help our community.
LOCATION:SoHo63 - 63 E Boston St Chandler\, AZ 85225
UID:e.1561.36645
SEQUENCE:3
DTSTAMP:20260423T045152Z
URL:https://business.chandlerchamber.com/events/details/guardian-s-gala-36645
END:VEVENT

END:VCALENDAR
