BEGIN:VCALENDAR
VERSION:2.0
PRODID:-//ChamberMaster//Event Calendar 2.0//EN
METHOD:PUBLISH
X-PUBLISHED-TTL:P3D
REFRESH-INTERVAL:P3D
CALSCALE:GREGORIAN
BEGIN:VEVENT
DTSTART:20220712T140000Z
DTEND:20220712T193000Z
X-MICROSOFT-CDO-ALLDAYEVENT:FALSE
SUMMARY:GUINNESS WORLD RECORD(R) Title Attempt
DESCRIPTION:Largest Doughnut Mosaic\n\nIn celebration of Bashas' Supermarkets\n\n90th Anniversary\, we're inviting the community to\n\nwatch as we attempt to break the GUINNESS WORLD RECORDS \n\ntitle for the largest doughnut mosaic
X-ALT-DESC;FMTTYPE=text/html:Largest Doughnut Mosaic<br />\nIn celebration of Bashas&rsquo\; Supermarkets<br />\n90th Anniversary\,&nbsp\;we&rsquo\;re inviting the community to<br />\nwatch as we attempt to break the GUINNESS WORLD RECORDS&reg\;<br />\ntitle for the largest doughnut mosaic
LOCATION:Basha High School Gymnasium (5990 S Val Vista Dr\, Chandler\, AZ 85249) Event entrance off Riggs Road & Black Hills Way
UID:e.1561.41041
SEQUENCE:3
DTSTAMP:20260423T191032Z
URL:https://business.chandlerchamber.com/events/details/guinness-world-record-r-title-attempt-41041
END:VEVENT

END:VCALENDAR
