BEGIN:VCALENDAR
VERSION:2.0
PRODID:-//ChamberMaster//Event Calendar 2.0//EN
METHOD:PUBLISH
X-PUBLISHED-TTL:P3D
REFRESH-INTERVAL:P3D
CALSCALE:GREGORIAN
BEGIN:VEVENT
DTSTART:20191101T013000Z
DTEND:20191101T013000Z
X-MICROSOFT-CDO-ALLDAYEVENT:FALSE
SUMMARY:Halloween Bar Krawl
DESCRIPTION:Dia De Los Muertos Weekend Event!\nHalloween Bar Krawl with Quarhaus\, The Sleepy Whale\, The Perch Brewery\, The Local Chandler & Ghett Yo Taco!  \n\n\n\nPresented by Ghett Yo Taco restaurant & Arizona State University Diablos
X-ALT-DESC;FMTTYPE=text/html:<h1>Dia De Los Muertos Weekend Event!</h1>\nHalloween Bar Krawl with Quarhaus\, The Sleepy Whale\, The Perch Brewery\, The Local Chandler &amp\; Ghett Yo Taco!&nbsp\;&nbsp\;<br />\n<br />\nPresented by Ghett Yo Taco restaurant &amp\; Arizona State University Diablos
LOCATION:
UID:e.1561.37996
SEQUENCE:3
DTSTAMP:20260422T201808Z
URL:https://business.chandlerchamber.com/events/details/halloween-bar-krawl-37996
END:VEVENT

END:VCALENDAR
