BEGIN:VCALENDAR
VERSION:2.0
PRODID:-//ChamberMaster//Event Calendar 2.0//EN
METHOD:PUBLISH
X-PUBLISHED-TTL:P3D
REFRESH-INTERVAL:P3D
CALSCALE:GREGORIAN
BEGIN:VEVENT
DTSTART:20170616T150000Z
DTEND:20170616T160000Z
X-MICROSOFT-CDO-ALLDAYEVENT:FALSE
SUMMARY:Healthcare & Affordable Insurance - Movers\, Shakers\, Policy Makers
DESCRIPTION:Let your voice be heard. Join the Chandler Chamber to provide your input on the Chambers 2018 legislative priorities. \n\nTopic:  Healthcare & Affordable Insurance
X-ALT-DESC;FMTTYPE=text/html:<span style="color: rgb(0\, 0\, 0)\;"><span style="font-size: 16px\;">Let your voice be heard. Join the Chandler Chamber to provide your input on the Chambers 2018 legislative priorities.&nbsp\;<br />\nTopic: &nbsp\;Healthcare &amp\; Affordable Insurance</span></span>
LOCATION:Chandler Chamber of Commerce 25 S Arizona Place\, Ste 201 Chandler\, AZ 85225
UID:e.1561.19034
SEQUENCE:3
DTSTAMP:20260424T093733Z
URL:https://business.chandlerchamber.com/events/details/healthcare-affordable-insurance-movers-shakers-policy-makers-19034
END:VEVENT

END:VCALENDAR
