BEGIN:VCALENDAR
VERSION:2.0
PRODID:-//ChamberMaster//Event Calendar 2.0//EN
METHOD:PUBLISH
X-PUBLISHED-TTL:P3D
REFRESH-INTERVAL:P3D
CALSCALE:GREGORIAN
BEGIN:VEVENT
DTSTART;VALUE=DATE:20200415
DTEND;VALUE=DATE:20200516
TRANSP:TRANSPARENT
X-MICROSOFT-CDO-ALLDAYEVENT:TRUE
SUMMARY:Help the Homeless
DESCRIPTION:Create a "Hope Bag" and donate it to the United Food Bank Items needed: (Please place all items in a one gallon re-sealable bag) Granola bars or cereal bars (chewy seem to work best because they are less likely to crumble) Cheese crackers or peanut butter crackers Fruit rollups or fruit snacks Protein bars Beef jerky\, Slim Jims\, etc. Small packs of tuna and crackers\, deviled ham\, etc. Dried fruit/raisins/peanuts/trail mix Fruit cups/pudding cups (the kind that do not require refrigeration!) Small bottled water or juice Plastic spoon or fork *Note:Food that does not require refrigeration or cooking and has a pop top\, pouch or foil packets and is single serving.
X-ALT-DESC;FMTTYPE=text/html:Create a &quot\;Hope Bag&quot\; and donate it to the United Food Bank Items needed: (Please place all items in a one gallon re-sealable bag) Granola bars or cereal bars (chewy seem to work best because they are less likely to crumble) Cheese crackers or peanut butter crackers Fruit rollups or fruit snacks Protein bars Beef jerky\, Slim Jims\, etc. Small packs of tuna and crackers\, deviled ham\, etc. Dried fruit/raisins/peanuts/trail mix Fruit cups/pudding cups (the kind that do not require refrigeration!) Small bottled water or juice Plastic spoon or fork *Note:Food that does not require refrigeration or cooking and has a pop top\, pouch or foil packets and is single serving.
LOCATION:United Food Bank
UID:e.1561.38957
SEQUENCE:3
DTSTAMP:20260424T150051Z
URL:https://business.chandlerchamber.com/events/details/help-the-homeless-38957
END:VEVENT

END:VCALENDAR
