BEGIN:VCALENDAR
VERSION:2.0
PRODID:-//ChamberMaster//Event Calendar 2.0//EN
METHOD:PUBLISH
X-PUBLISHED-TTL:P3D
REFRESH-INTERVAL:P3D
CALSCALE:GREGORIAN
BEGIN:VEVENT
DTSTART:20180225T020000Z
DTEND:20180225T050000Z
X-MICROSOFT-CDO-ALLDAYEVENT:FALSE
SUMMARY:Helping Hand for Relief & Deveopment Presents: Open Mic Night
DESCRIPTION:Come share your talent with us on this relaxing evening filled with poetry\, networking\, comedy\, and more! Oh...and we have Snacks Too!
X-ALT-DESC;FMTTYPE=text/html:Come share your talent with us on this relaxing evening filled with poetry\, networking\, comedy\, and more! Oh...and we have Snacks Too!
LOCATION:33 E Comstock Dr #1 Chandler\, AZ 85225
UID:e.1561.20944
SEQUENCE:3
DTSTAMP:20260423T215745Z
URL:https://business.chandlerchamber.com/events/details/helping-hand-for-relief-deveopment-presents-open-mic-night-20944
END:VEVENT

END:VCALENDAR
