BEGIN:VCALENDAR
VERSION:2.0
PRODID:-//ChamberMaster//Event Calendar 2.0//EN
METHOD:PUBLISH
X-PUBLISHED-TTL:P3D
REFRESH-INTERVAL:P3D
CALSCALE:GREGORIAN
BEGIN:VEVENT
DTSTART:20180929T130000Z
DTEND:20180929T160000Z
X-MICROSOFT-CDO-ALLDAYEVENT:FALSE
SUMMARY:Heros in Healthcare 5K
DESCRIPTION:Join us for our SuperHeros in Healthcare 5k run. Every single day there is a team of Super Heroes fighting to advance health care for you in the East Valley\, at Chandler Regional and Mercy Gilbert Medical Centers\, and through our community outreach programs. You will be directly supporting the lifesaving care provided by these Super Heroes.
X-ALT-DESC;FMTTYPE=text/html:Join us for our SuperHeros in Healthcare 5k run. Every single day there is a team of Super Heroes fighting to advance health care for you in the East Valley\, at Chandler Regional and Mercy Gilbert Medical Centers\, and through our community outreach programs. You will be directly supporting the lifesaving care provided by these Super Heroes.
LOCATION:Freestone Park | 1045 E Juniper Ave\, Gilbert\, AZ 85234
UID:e.1561.34143
SEQUENCE:3
DTSTAMP:20260423T124431Z
URL:https://business.chandlerchamber.com/events/details/heros-in-healthcare-5k-34143
END:VEVENT

END:VCALENDAR
