BEGIN:VCALENDAR
VERSION:2.0
PRODID:-//ChamberMaster//Event Calendar 2.0//EN
METHOD:PUBLISH
X-PUBLISHED-TTL:P3D
REFRESH-INTERVAL:P3D
CALSCALE:GREGORIAN
BEGIN:VEVENT
DTSTART:20260307T170000Z
DTEND:20260309T000000Z
X-MICROSOFT-CDO-ALLDAYEVENT:FALSE
SUMMARY:High Street Art & Wine Experience Celebrates Arizona Wine Month in Phoenix
DESCRIPTION:Celebrate High Street\, an urban shopping\, dining\, and entertainment district in North Phoenix during Arizona Wine Month with the first-ever High Street Art & Wine Experience on March 7th and 8th\, 2026. Proclaimed by Katie Hobbs as part of March's statewide celebration\, this two-day festival runs from 10 a.m. to 5 p.m. (wine tastings from 11 a.m. to 5 p.m.) at 5415 East High Street\, Phoenix\, AZ 85054 and features 15 Arizona wineries\, more than 100 artists from around the world\, live entertainment\, food trucks and culinary booths. Guests can stroll the district\, shop\, enjoy live music and sample wines from participating wineries including Su Vino\, Skyhaven\, Cactus Cru\, DA Vines\, 1764 Vineyards\, Oak Creek Vineyards\, Strive Vineyards\, Soaring Wines and Omphalos Winery. Admission is free\, and wine tasting tickets range from $20 $35 per person and include a commemorative wine glass and tasting tickets.
X-ALT-DESC;FMTTYPE=text/html:Celebrate High Street\, an urban shopping\, dining\, and entertainment district in North Phoenix during Arizona Wine Month with the first-ever High Street Art &amp\; Wine Experience on March 7th and 8th\, 2026. Proclaimed by Katie Hobbs as part of March&rsquo\;s statewide celebration\, this two-day festival runs from 10 a.m. to 5 p.m. (wine tastings from 11 a.m. to 5 p.m.) at 5415 East High Street\, Phoenix\, AZ 85054 and features 15 Arizona wineries\, more than 100 artists from around the world\, live entertainment\, food trucks and culinary booths. Guests can stroll the district\, shop\, enjoy live music and sample wines from participating wineries including Su Vino\, Skyhaven\, Cactus Cru\, DA Vines\, 1764 Vineyards\, Oak Creek Vineyards\, Strive Vineyards\, Soaring Wines and Omphalos Winery. Admission is free\, and wine tasting tickets range from $20&ndash\;$35 per person and include a commemorative wine glass and tasting tickets.
LOCATION:5415 East High Street\, Phoenix\, AZ 85054
UID:e.1561.52244
SEQUENCE:3
DTSTAMP:20260424T022704Z
URL:https://business.chandlerchamber.com/events/details/high-street-art-wine-experience-celebrates-arizona-wine-month-in-phoenix-52244
END:VEVENT

END:VCALENDAR
