BEGIN:VCALENDAR
VERSION:2.0
PRODID:-//ChamberMaster//Event Calendar 2.0//EN
METHOD:PUBLISH
X-PUBLISHED-TTL:P3D
REFRESH-INTERVAL:P3D
CALSCALE:GREGORIAN
BEGIN:VEVENT
DTSTART:20220503T190000Z
DTEND:20220503T193000Z
X-MICROSOFT-CDO-ALLDAYEVENT:FALSE
SUMMARY:History Bites
DESCRIPTION:Arizona Agriculture\, Then and Now Agriculture made Arizona an economic force and helped develop the water infrastructure we all enjoy today. Chandler's farming and ranching contribution is significant in the history of our state. Arizona Farm Bureau Outreach Director Julie Murphree is from a generational farming family rooted in Chandler. Listen as she shares the personal story of her own family farm\, while also revealing the 30\,000-foot view of Arizona agriculture today. After the program\, stay to experience the exhibit "American Farmer\," open April 6   May 25\, 2022. Register to guarantee your spot: https://www.eventbrite.com/e/history-bites-arizona-agriculture-then-and-now-tickets-261314527787 General Information: Free Admission Tuesday-Saturday 10am-5pm\, Sunday 1-5pm\, Closed Monday East Valley History Center\, Thursdays\, 2-5pm
X-ALT-DESC;FMTTYPE=text/html:Arizona Agriculture\, Then and Now Agriculture made Arizona an economic force and helped develop the water infrastructure we all enjoy today. Chandler&rsquo\;s farming and ranching contribution is significant in the history of our state. Arizona Farm Bureau Outreach Director Julie Murphree is from a generational farming family rooted in Chandler. Listen as she shares the personal story of her own family farm\, while also revealing the 30\,000-foot view of Arizona agriculture today. After the program\, stay to experience the exhibit &ldquo\;American Farmer\,&rdquo\; open April 6 &ndash\; May 25\, 2022. Register to guarantee your spot: https://www.eventbrite.com/e/history-bites-arizona-agriculture-then-and-now-tickets-261314527787 General Information: Free Admission Tuesday-Saturday 10am-5pm\, Sunday 1-5pm\, Closed Monday East Valley History Center\, Thursdays\, 2-5pm
LOCATION:Chandler Museum 300 S. Chandler Village Drive Chandler\, Arizona 85226
UID:e.1561.40669
SEQUENCE:3
DTSTAMP:20260423T204745Z
URL:https://business.chandlerchamber.com/events/details/history-bites-05-03-2022-40669
END:VEVENT

END:VCALENDAR
