BEGIN:VCALENDAR
VERSION:2.0
PRODID:-//ChamberMaster//Event Calendar 2.0//EN
METHOD:PUBLISH
X-PUBLISHED-TTL:P3D
REFRESH-INTERVAL:P3D
CALSCALE:GREGORIAN
BEGIN:VEVENT
DTSTART:20220405T190000Z
DTEND:20220405T193000Z
X-MICROSOFT-CDO-ALLDAYEVENT:FALSE
SUMMARY:History Bites: Chandler in the 1930s
DESCRIPTION:There were two Chandlers in the 1930s. One revolved around the San Marcos Hotel\, where the rich and famous enjoyed leisurely winters and spent time in carefully managed areas nearby. The other was a town already a decade into economic hardship\, where most residents were small-scale farmers struggling to find a new cash crop after the 1920 cotton market collapse. Find out more as Collections Coordinator Nate Meyers tells the story of a town with a more complicated history than you may think\, and describes the Dust Bowl migrants who would soon add their own chapters to the tale. After the program\, stay to take in "Picturing Home: Dust Bowl Migrants in Chandler." Register to guarantee your spot: https://www.eventbrite.com/e/history-bites-chandler-in-the-1930s-tickets-261302561997 General Information: Free Admission Tuesday-Saturday 10am-5pm\, Sunday 1-5pm\, Closed Monday East Valley History Center\, Thursdays\, 2-5pm Closures: Sunday\, April 17
X-ALT-DESC;FMTTYPE=text/html:There were two Chandlers in the 1930s. One revolved around the San Marcos Hotel\, where the rich and famous enjoyed leisurely winters and spent time in carefully managed areas nearby. The other was a town already a decade into economic hardship\, where most residents were small-scale farmers struggling to find a new cash crop after the 1920 cotton market collapse. Find out more as Collections Coordinator Nate Meyers tells the story of a town with a more complicated history than you may think\, and describes the Dust Bowl migrants who would soon add their own chapters to the tale. After the program\, stay to take in &ldquo\;Picturing Home: Dust Bowl Migrants in Chandler.&rdquo\; Register to guarantee your spot: https://www.eventbrite.com/e/history-bites-chandler-in-the-1930s-tickets-261302561997 General Information: Free Admission Tuesday-Saturday 10am-5pm\, Sunday 1-5pm\, Closed Monday East Valley History Center\, Thursdays\, 2-5pm Closures: Sunday\, April 17
LOCATION:Chandler Museum 300 S. Chandler Village Drive Chandler\, Arizona 85226
UID:e.1561.40645
SEQUENCE:3
DTSTAMP:20260423T221857Z
URL:https://business.chandlerchamber.com/events/details/history-bites-chandler-in-the-1930s-40645
END:VEVENT

END:VCALENDAR
