BEGIN:VCALENDAR
VERSION:2.0
PRODID:-//ChamberMaster//Event Calendar 2.0//EN
METHOD:PUBLISH
X-PUBLISHED-TTL:P3D
REFRESH-INTERVAL:P3D
CALSCALE:GREGORIAN
BEGIN:VEVENT
DTSTART:20220301T190000Z
DTEND:20220301T193000Z
X-MICROSOFT-CDO-ALLDAYEVENT:FALSE
SUMMARY:History Bites: Community and Creativity\; A History of Public Art in Chandler
DESCRIPTION:History Bites Community and Creativity: A History of Public Art in Chandler When you're out and about in Chandler you might spy a utility box adorned with cactus wrens and quail\, walk through an archway of giant metal flowers\, or snap a selfie next to a mural that radiates color. What do these diverse creations have in common? Since 1983\, Chandler has developed innovative\, sustainable ways to fund and acquire artworks that are relevant to neighborhoods and accessible to everyone. Join us as Peter Bugg\, Visual Arts Coordinator for the City of Chandler\, reveals the history of our city's highly regarded public art program. Stay after the program to enjoy the exhibition Public Objects: Artwork from the City's Permanent Collection\, on view at Chandler Museum February 8 - March 27\, 2022. Guarantee your seat by registering: https://www.eventbrite.com/e/history-bites-community-and-creativity-a-history-of-public-art-in-chandler-tickets-239492236727 General Information: Tuesday-Saturday 10am-5pm\, Sunday 1-5pm\, Closed Monday East Valley History Center\, Thursdays\, 2-5pm
X-ALT-DESC;FMTTYPE=text/html:History Bites Community and Creativity: A History of Public Art in Chandler When you&rsquo\;re out and about in Chandler you might spy a utility box adorned with cactus wrens and quail\, walk through an archway of giant metal flowers\, or snap a selfie next to a mural that radiates color. What do these diverse creations have in common? Since 1983\, Chandler has developed innovative\, sustainable ways to fund and acquire artworks that are relevant to neighborhoods and accessible to everyone. Join us as Peter Bugg\, Visual Arts Coordinator for the City of Chandler\, reveals the history of our city&rsquo\;s highly regarded public art program. Stay after the program to enjoy the exhibition Public Objects: Artwork from the City&#39\;s Permanent Collection\, on view at Chandler Museum February 8 - March 27\, 2022. Guarantee your seat by registering: https://www.eventbrite.com/e/history-bites-community-and-creativity-a-history-of-public-art-in-chandler-tickets-239492236727 General Information: Tuesday-Saturday 10am-5pm\, Sunday 1-5pm\, Closed Monday East Valley History Center\, Thursdays\, 2-5pm
LOCATION:Chandler Museum 300 S. Chandler Village Drive Chandler\, Arizona 85226
UID:e.1561.40610
SEQUENCE:3
DTSTAMP:20260423T234746Z
URL:https://business.chandlerchamber.com/events/details/history-bites-community-and-creativity-a-history-of-public-art-in-chandler-40610
END:VEVENT

END:VCALENDAR
