BEGIN:VCALENDAR
VERSION:2.0
PRODID:-//ChamberMaster//Event Calendar 2.0//EN
METHOD:PUBLISH
X-PUBLISHED-TTL:P3D
REFRESH-INTERVAL:P3D
CALSCALE:GREGORIAN
BEGIN:VEVENT
DTSTART:20190305T190000Z
DTEND:20190305T193000Z
X-MICROSOFT-CDO-ALLDAYEVENT:FALSE
SUMMARY:History Bites Lunchtime Talks
DESCRIPTION:Get a taste of Chandler history during 30 minute talks led by museum curators. Bring some take out or a brown bag lunch. Adult Program First Tuesday of each month 12-12:30PM Saguaro Room March 5- A Swing and a Miss: Spring Training in Chandler April 2- Dorothea Lange's Depression Era Photography in Chandler May 7- Land Sale Day- 100 Years of Celebrating the Wrong Day
X-ALT-DESC;FMTTYPE=text/html:Get a taste of Chandler history during 30 minute talks led by museum curators. Bring some take out or a brown bag lunch. Adult Program First Tuesday of each month 12-12:30PM Saguaro Room March 5- A Swing and a Miss: Spring Training in Chandler April 2- Dorothea Lange&rsquo\;s Depression Era Photography in Chandler May 7- Land Sale Day- 100 Years of Celebrating the Wrong Day
LOCATION:Chandler Museum 300 S. Chandler Village Dr. Chandler\, AZ 85226
UID:e.1561.36396
SEQUENCE:3
DTSTAMP:20260423T045204Z
URL:https://business.chandlerchamber.com/events/details/history-bites-lunchtime-talks-36396
END:VEVENT

END:VCALENDAR
