BEGIN:VCALENDAR
VERSION:2.0
PRODID:-//ChamberMaster//Event Calendar 2.0//EN
METHOD:PUBLISH
X-PUBLISHED-TTL:P3D
REFRESH-INTERVAL:P3D
CALSCALE:GREGORIAN
BEGIN:VEVENT
DTSTART:20191203T190000Z
DTEND:20191203T193000Z
X-MICROSOFT-CDO-ALLDAYEVENT:FALSE
SUMMARY:History Bites- Tumbleweed Tree
DESCRIPTION:How did the Tumbleweed Tree tradition get started in Chandler? Hear interesting tidbits from the 60+ year history of Chandler's best known holiday tradition. Gain some insights to how the tree is installed and constructed. Get a taste of Chandler history during 30 minute talks led by museum curators. Bring some take out or a brown bag lunch.
X-ALT-DESC;FMTTYPE=text/html:How did the Tumbleweed Tree tradition get started in Chandler? Hear interesting tidbits from the 60+ year history of Chandler&rsquo\;s best known holiday tradition. Gain some insights to how the tree is installed and constructed. Get a taste of Chandler history during 30 minute talks led by museum curators. Bring some take out or a brown bag lunch.
LOCATION:Chandler Museum
UID:e.1561.38039
SEQUENCE:3
DTSTAMP:20260423T002037Z
URL:https://business.chandlerchamber.com/events/details/history-bites-tumbleweed-tree-38039
END:VEVENT

END:VCALENDAR
