BEGIN:VCALENDAR
VERSION:2.0
PRODID:-//ChamberMaster//Event Calendar 2.0//EN
METHOD:PUBLISH
X-PUBLISHED-TTL:P3D
REFRESH-INTERVAL:P3D
CALSCALE:GREGORIAN
BEGIN:VEVENT
DTSTART:20191001T190000Z
DTEND:20191001T193000Z
X-MICROSOFT-CDO-ALLDAYEVENT:FALSE
SUMMARY:History Bites: Williams Air Force Base
DESCRIPTION:First Tuesday of each month Get a taste of Chandler history during 30 minute talks led by museum curators. Bring some take out or a brown bag lunch.
X-ALT-DESC;FMTTYPE=text/html:First Tuesday of each month Get a taste of Chandler history during 30 minute talks led by museum curators. Bring some take out or a brown bag lunch.
LOCATION:Chandler Museum 300 S Chandler Village Dr
UID:e.1561.36922
SEQUENCE:3
DTSTAMP:20260422T201808Z
URL:https://business.chandlerchamber.com/events/details/history-bites-williams-air-force-base-36922
END:VEVENT

END:VCALENDAR
