BEGIN:VCALENDAR
VERSION:2.0
PRODID:-//ChamberMaster//Event Calendar 2.0//EN
METHOD:PUBLISH
X-PUBLISHED-TTL:P3D
REFRESH-INTERVAL:P3D
CALSCALE:GREGORIAN
BEGIN:VEVENT
DTSTART:20190302T180000Z
DTEND:20190302T210000Z
X-MICROSOFT-CDO-ALLDAYEVENT:FALSE
SUMMARY:History Detectives
DESCRIPTION:History Detectives First Saturday of the Month Use clues from local primary sources to solve a history mystery. March 2 | Scavenger Hunt April 5 | Weighing the Evidence May 4 | When was Land Sale Day? FREE
X-ALT-DESC;FMTTYPE=text/html:History Detectives First Saturday of the Month Use clues from local primary sources to solve a history mystery. March 2 | Scavenger Hunt April 5 | Weighing the Evidence May 4 | When was Land Sale Day? FREE
LOCATION:Chandler Museum
UID:e.1561.36395
SEQUENCE:3
DTSTAMP:20260423T045331Z
URL:https://business.chandlerchamber.com/events/details/history-detectives-03-02-2019-36395
END:VEVENT

END:VCALENDAR
