BEGIN:VCALENDAR
VERSION:2.0
PRODID:-//ChamberMaster//Event Calendar 2.0//EN
METHOD:PUBLISH
X-PUBLISHED-TTL:P3D
REFRESH-INTERVAL:P3D
CALSCALE:GREGORIAN
BEGIN:VEVENT
DTSTART:20200201T180000Z
DTEND:20200201T210000Z
X-MICROSOFT-CDO-ALLDAYEVENT:FALSE
SUMMARY:History Detectives- Modern Mysteries
DESCRIPTION:What did people use before electrified vacuums? Take a closer look at a rug beater and try your hand at using it. Explore a number of historic artifacts and compare them to their modern counterparts.
X-ALT-DESC;FMTTYPE=text/html:What did people use before electrified vacuums? Take a closer look at a rug beater and try your hand at using it. Explore a number of historic artifacts and compare them to their modern counterparts.
LOCATION:Chandler Museum
UID:e.1561.38799
SEQUENCE:3
DTSTAMP:20260421T194834Z
URL:https://business.chandlerchamber.com/events/details/history-detectives-modern-mysteries-38799
END:VEVENT

END:VCALENDAR
