BEGIN:VCALENDAR
VERSION:2.0
PRODID:-//ChamberMaster//Event Calendar 2.0//EN
METHOD:PUBLISH
X-PUBLISHED-TTL:P3D
REFRESH-INTERVAL:P3D
CALSCALE:GREGORIAN
BEGIN:VEVENT
DTSTART:20200307T180000Z
DTEND:20200307T210000Z
X-MICROSOFT-CDO-ALLDAYEVENT:FALSE
SUMMARY:History Detectives- Ostrich Madness
DESCRIPTION:How did a Chandler ostrich create a tragedy? Come learn about Chandler's ostrich industry and find out what happened to Mrs. L.D. Rousseau.
X-ALT-DESC;FMTTYPE=text/html:How did a Chandler ostrich create a tragedy? Come learn about Chandler&rsquo\;s ostrich industry and find out what happened to Mrs. L.D. Rousseau.
LOCATION:Chandler Museum
UID:e.1561.38890
SEQUENCE:3
DTSTAMP:20260424T163308Z
URL:https://business.chandlerchamber.com/events/details/history-detectives-ostrich-madness-38890
END:VEVENT

END:VCALENDAR
