BEGIN:VCALENDAR
VERSION:2.0
PRODID:-//ChamberMaster//Event Calendar 2.0//EN
METHOD:PUBLISH
X-PUBLISHED-TTL:P3D
REFRESH-INTERVAL:P3D
CALSCALE:GREGORIAN
BEGIN:VEVENT
DTSTART:20191005T180000Z
DTEND:20191005T210000Z
X-MICROSOFT-CDO-ALLDAYEVENT:FALSE
SUMMARY:History Detectives- Scavenger Hunt
DESCRIPTION:FREE Drop in event Designed for ages 6-12 Use clues to find things located around the museum campus. Don't forget to check the exhibit hall\, the historic McCullough-Price House\, and the outdoor spaces.
X-ALT-DESC;FMTTYPE=text/html:FREE Drop in event Designed for ages 6-12 Use clues to find things located around the museum campus. Don&rsquo\;t forget to check the exhibit hall\, the historic McCullough-Price House\, and the outdoor spaces.
LOCATION:Chandler Museum
UID:e.1561.36917
SEQUENCE:3
DTSTAMP:20260422T202238Z
URL:https://business.chandlerchamber.com/events/details/history-detectives-scavenger-hunt-10-05-2019-36917
END:VEVENT

END:VCALENDAR
