BEGIN:VCALENDAR
VERSION:2.0
PRODID:-//ChamberMaster//Event Calendar 2.0//EN
METHOD:PUBLISH
X-PUBLISHED-TTL:P3D
REFRESH-INTERVAL:P3D
CALSCALE:GREGORIAN
BEGIN:VEVENT
DTSTART:20190504T180000Z
DTEND:20190504T210000Z
X-MICROSOFT-CDO-ALLDAYEVENT:FALSE
SUMMARY:History Detectives - When Was Land Sale Day?
DESCRIPTION:11am-2pm Drop-in Great for ages 6-12 Saguaro Room History Detectives- Use clues from local primary sources to solve a history mystery May 4- When was land sale day?
X-ALT-DESC;FMTTYPE=text/html:11am-2pm Drop-in Great for ages 6-12 Saguaro Room History Detectives- Use clues from local primary sources to solve a history mystery May 4- When was land sale day?
LOCATION:Chandler Museum 300 S. Chandler Village Dr. Chandler\, AZ 85226
UID:e.1561.36644
SEQUENCE:3
DTSTAMP:20260423T033345Z
URL:https://business.chandlerchamber.com/events/details/history-detectives-when-was-land-sale-day-36644
END:VEVENT

END:VCALENDAR
