BEGIN:VCALENDAR
VERSION:2.0
PRODID:-//ChamberMaster//Event Calendar 2.0//EN
METHOD:PUBLISH
X-PUBLISHED-TTL:P3D
REFRESH-INTERVAL:P3D
CALSCALE:GREGORIAN
BEGIN:VEVENT
DTSTART;VALUE=DATE:20200415
DTEND;VALUE=DATE:20200516
TRANSP:TRANSPARENT
X-MICROSOFT-CDO-ALLDAYEVENT:TRUE
SUMMARY:Hoarder Relief Food Drive
DESCRIPTION:In March of 2019 United Food Bank received more than 30\,000 Pounds of food through food drives. In 2020 we received barely 1\,000 Pounds. Be a Supper-Hero! We are hosting a Community "Anonymous" Food Drive where you can donate extra nonperishable food items and help others\, more needing\, in our community. Wont you help? Come in "Disguise" and donate! For more information contact Or 480.306.9509
X-ALT-DESC;FMTTYPE=text/html:In March of 2019 United Food Bank received more than 30\,000 Pounds of food through food drives. In 2020 we received barely 1\,000 Pounds. Be a Supper-Hero! We are hosting a Community &ldquo\;Anonymous&rdquo\; Food Drive where you can donate extra nonperishable food items and help others\, more needing\, in our community. Wont you help? Come in &ldquo\;Disguise&rdquo\; and donate! For more information contact Or 480.306.9509
LOCATION:United Food Bank
UID:e.1561.38956
SEQUENCE:3
DTSTAMP:20260424T153257Z
URL:https://business.chandlerchamber.com/events/details/hoarder-relief-food-drive-38956
END:VEVENT

END:VCALENDAR
