BEGIN:VCALENDAR
VERSION:2.0
PRODID:-//ChamberMaster//Event Calendar 2.0//EN
METHOD:PUBLISH
X-PUBLISHED-TTL:P3D
REFRESH-INTERVAL:P3D
CALSCALE:GREGORIAN
BEGIN:VEVENT
DTSTART:20171215T190000Z
DTEND:20171215T210000Z
X-MICROSOFT-CDO-ALLDAYEVENT:FALSE
SUMMARY:Holiday Open House
DESCRIPTION:Join us to celebrate the end of the year with some Holiday Cheer! Food and fun for everyone!\n\nPlease RSVP to- salesarizona@outlook.com by December 12\, 2017.
X-ALT-DESC;FMTTYPE=text/html:<span style="font-size:12px\;">Join us to celebrate the end of the year with some Holiday Cheer! Food and fun for everyone!<br />\nPlease RSVP to- <a href="mailto:salesarizona@outlook.com">salesarizona@outlook.com</a> by December 12\, 2017.</span>
LOCATION:Comfort Inn 7400 W. Boston St
UID:e.1561.19622
SEQUENCE:3
DTSTAMP:20260424T011011Z
URL:https://business.chandlerchamber.com/events/details/holiday-open-house-19622
END:VEVENT

END:VCALENDAR
