BEGIN:VCALENDAR
VERSION:2.0
PRODID:-//ChamberMaster//Event Calendar 2.0//EN
METHOD:PUBLISH
X-PUBLISHED-TTL:P3D
REFRESH-INTERVAL:P3D
CALSCALE:GREGORIAN
BEGIN:VEVENT
DTSTART:20220716T170000Z
DTEND:20220716T190000Z
X-MICROSOFT-CDO-ALLDAYEVENT:FALSE
SUMMARY:Homebuyers Workshop by Waliece Anderson of KW Realty
DESCRIPTION:Our goal is for families to understand the steps required to own a home they can love\, afford\, and make their own.  Become familiar with the home buying process in this free community workshop.  This will be held Saturday June 18\, 2022.  \n\nBuying or selling a home is similar to playing a game\, only more impactful\, and its far more fun when you know the rules! \n\nLearn the benefits of homeownership\, how to work with credit and debt\, and determine the right time to buy for your family.  Our goal is for families to have a  home they can love\, afford\, and make their home. \n\n\n\nOur goal is for families to have a home they can love\, afford\, and make their own. \n\n\n\nOwn your home.  Find your community.
X-ALT-DESC;FMTTYPE=text/html:Our goal is for families to understand the steps required to own a home they can love\, afford\, and make their own.&nbsp\; Become familiar with the home buying process in this free community workshop.&nbsp\; This will be held Saturday June 18\, 2022.&nbsp\;&nbsp\;<br />\nBuying or selling a home is similar to playing a game\, only more impactful\, and its far more fun when you know the rules!&nbsp\;<br />\nLearn the benefits of homeownership\, how to work with credit and debt\, and determine the right time to buy for your family.&nbsp\; Our goal is for families to have a&nbsp\; home they can love\, afford\, and make their home.&nbsp\;<br />\n<br />\nOur goal is for families to have a home they can love\, afford\, and make their own.&nbsp\;<br />\n<br />\nOwn your home.&nbsp\; Find your community.&nbsp\;<br />\n&nbsp\;
LOCATION:Chandler Sunset Library 4930 W Ray Road Chandler\, AZ 85225
UID:e.1561.40980
SEQUENCE:3
DTSTAMP:20260424T010650Z
URL:https://business.chandlerchamber.com/events/details/homebuyers-workshop-by-waliece-anderson-of-kw-realty-40980
END:VEVENT

END:VCALENDAR
