BEGIN:VCALENDAR
VERSION:2.0
PRODID:-//ChamberMaster//Event Calendar 2.0//EN
METHOD:PUBLISH
X-PUBLISHED-TTL:P3D
REFRESH-INTERVAL:P3D
CALSCALE:GREGORIAN
BEGIN:VEVENT
DTSTART:20260107T003000Z
DTEND:20260107T013000Z
X-MICROSOFT-CDO-ALLDAYEVENT:FALSE
SUMMARY:Homebuying Made Simple for First-Timers
DESCRIPTION:Whether you're just curious or ready to buy\, this FREE event is for you! What we will cover: -Understanding the homebuying process from start to finish -Financing options and how to get pre-approved -Current market trends and what they mean for buyers -Tips for working with a realtor and making competitive offers -Q&A session to answer all your questions!
X-ALT-DESC;FMTTYPE=text/html:Whether you&#39\;re just curious or ready to buy\, this FREE event is for you! What we will cover: -Understanding the homebuying process from start to finish -Financing options and how to get pre-approved -Current market trends and what they mean for buyers -Tips for working with a realtor and making competitive offers -Q&amp\;A session to answer all your questions!
LOCATION:George & Gather 336 S Washington St Chandler\, AZ 85225
UID:e.1561.52038
SEQUENCE:3
DTSTAMP:20260424T035127Z
URL:https://business.chandlerchamber.com/events/details/homebuying-made-simple-for-first-timers-52038
END:VEVENT

END:VCALENDAR
