BEGIN:VCALENDAR
VERSION:2.0
PRODID:-//ChamberMaster//Event Calendar 2.0//EN
METHOD:PUBLISH
X-PUBLISHED-TTL:P3D
REFRESH-INTERVAL:P3D
CALSCALE:GREGORIAN
BEGIN:VEVENT
DTSTART:20180118T003000Z
DTEND:20180118T025000Z
X-MICROSOFT-CDO-ALLDAYEVENT:FALSE
SUMMARY:How To Create An Absolutely Irresistible Elevator Pitch..
DESCRIPTION:Anyone can create an elevator pitch that will have people saying "tell me more"? Too often when asked to describe their business and introduce themselves\, people never get to the point and quickly lose their audience. By creating an irresistible elevator pitch\, you'll attract more referral partners\, get more clients\, and increase profits.
X-ALT-DESC;FMTTYPE=text/html:Anyone can create an elevator pitch that will have people saying &quot\;tell me more&quot\;? Too often when asked to describe their business and introduce themselves\, people never get to the point and quickly lose their audience. By creating an irresistible elevator pitch\, you&#39\;ll attract more referral partners\, get more clients\, and increase profits.
LOCATION:Tempe Public Library (BRiC) 3500 South Rural Road Tempe\, AZ\, 85281
UID:e.1561.20908
SEQUENCE:3
DTSTAMP:20260423T233032Z
URL:https://business.chandlerchamber.com/events/details/how-to-create-an-absolutely-irresistible-elevator-pitch-20908
END:VEVENT

END:VCALENDAR
