BEGIN:VCALENDAR
VERSION:2.0
PRODID:-//ChamberMaster//Event Calendar 2.0//EN
METHOD:PUBLISH
X-PUBLISHED-TTL:P3D
REFRESH-INTERVAL:P3D
CALSCALE:GREGORIAN
BEGIN:VEVENT
DTSTART:20180221T003000Z
DTEND:20180221T025000Z
X-MICROSOFT-CDO-ALLDAYEVENT:FALSE
SUMMARY:How To Develop and Maintain Good Credit For You and Your Business
DESCRIPTION:This workshop teaches everything there is to know about Credit\, Credit Reporting\, Credit Scoring\, Consumer Protection Laws\, and other requisite business information. Includes how to obtain\, read and understand a Credit Report\, Credit Bureaus\, Credit Reports to obtain a loan\, Identity theft\, Data breaches\, How to save money\, Consumer rights\, and MORE.
X-ALT-DESC;FMTTYPE=text/html:This workshop teaches everything there is to know about Credit\, Credit Reporting\, Credit Scoring\, Consumer Protection Laws\, and other requisite business information. Includes how to obtain\, read and understand a Credit Report\, Credit Bureaus\, Credit Reports to obtain a loan\, Identity theft\, Data breaches\, How to save money\, Consumer rights\, and MORE.
LOCATION:Tempe Public Library 3500 South Rural Road Business Resource and Innovation Center (BRiC) Tempe\, AZ\, 85282
UID:e.1561.20917
SEQUENCE:3
DTSTAMP:20260423T215921Z
URL:https://business.chandlerchamber.com/events/details/how-to-develop-and-maintain-good-credit-for-you-and-your-business-20917
END:VEVENT

END:VCALENDAR
