BEGIN:VCALENDAR
VERSION:2.0
PRODID:-//ChamberMaster//Event Calendar 2.0//EN
METHOD:PUBLISH
X-PUBLISHED-TTL:P3D
REFRESH-INTERVAL:P3D
CALSCALE:GREGORIAN
BEGIN:VEVENT
DTSTART:20180815T010000Z
DTEND:20180815T020000Z
X-MICROSOFT-CDO-ALLDAYEVENT:FALSE
SUMMARY:How to Kick the Sugar Habit
DESCRIPTION:Join us and learn how you can kick that sugar habit to increase energy and promote healthy weight loss!
X-ALT-DESC;FMTTYPE=text/html:Join us and learn how you can kick that sugar habit to increase energy and promote healthy weight loss!
LOCATION:LifeQuest Physical Medicine and Rehab 1050 E. Ray Rd Ste 4A Chandler\, AZ 85225
UID:e.1561.33722
SEQUENCE:3
DTSTAMP:20260423T135615Z
URL:https://business.chandlerchamber.com/events/details/how-to-kick-the-sugar-habit-33722
END:VEVENT

END:VCALENDAR
