BEGIN:VCALENDAR
VERSION:2.0
PRODID:-//ChamberMaster//Event Calendar 2.0//EN
METHOD:PUBLISH
X-PUBLISHED-TTL:P3D
REFRESH-INTERVAL:P3D
CALSCALE:GREGORIAN
BEGIN:VEVENT
DTSTART:20171109T003000Z
DTEND:20171109T025000Z
X-MICROSOFT-CDO-ALLDAYEVENT:FALSE
SUMMARY:How to Reduce Your Small Business Tax Liability for 2017!
DESCRIPTION:We focus on record keeping and current tax issues that will affect your business in 2017. It provides an overview of the different types of legal structures to use for businesses\, how the tax information is reported to businesses or the IRS\, and what types of records you should maintain to properly support deductions on business tax returns.
X-ALT-DESC;FMTTYPE=text/html:We focus on record keeping and current tax issues that will affect your business in 2017. It provides an overview of the different types of legal structures to use for businesses\, how the tax information is reported to businesses or the IRS\, and what types of records you should maintain to properly support deductions on business tax returns.
LOCATION:Tempe Public Library (BRiC) 3500 South Rural Road Business Resource and Innovation Center (BRiC) Tempe\, AZ\, 85282
UID:e.1561.19210
SEQUENCE:3
DTSTAMP:20260424T034747Z
URL:https://business.chandlerchamber.com/events/details/how-to-reduce-your-small-business-tax-liability-for-2017-19210
END:VEVENT

END:VCALENDAR
