BEGIN:VCALENDAR
VERSION:2.0
PRODID:-//ChamberMaster//Event Calendar 2.0//EN
METHOD:PUBLISH
X-PUBLISHED-TTL:P3D
REFRESH-INTERVAL:P3D
CALSCALE:GREGORIAN
BEGIN:VEVENT
DTSTART:20190604T150000Z
DTEND:20190604T160000Z
X-MICROSOFT-CDO-ALLDAYEVENT:FALSE
SUMMARY:HOW WE STAND Roundtable Discussion: Education
DESCRIPTION:Chamber members are invited to participate in discussing issues regarding education for our 2020 legislative agenda.
X-ALT-DESC;FMTTYPE=text/html:Chamber members are invited to participate in discussing issues regarding education for our 2020 legislative agenda.
LOCATION:Chandler Chamber of Commerce 25 S Arizona Place #201 Chandler\, AZ 85225
UID:e.1561.36663
SEQUENCE:3
DTSTAMP:20260423T003654Z
URL:https://business.chandlerchamber.com/events/details/how-we-stand-roundtable-discussion-education-36663
END:VEVENT

END:VCALENDAR
