BEGIN:VCALENDAR
VERSION:2.0
PRODID:-//ChamberMaster//Event Calendar 2.0//EN
METHOD:PUBLISH
X-PUBLISHED-TTL:P3D
REFRESH-INTERVAL:P3D
CALSCALE:GREGORIAN
BEGIN:VEVENT
DTSTART:20190612T150000Z
DTEND:20190612T160000Z
X-MICROSOFT-CDO-ALLDAYEVENT:FALSE
SUMMARY:HOW WE STAND Roundtable Discussion: Growth & Land Use
DESCRIPTION:Chamber members are invited to participate in discussing issues regarding Growth & Land Use for our 2020 legislative agenda.
X-ALT-DESC;FMTTYPE=text/html:<span style="background:white\;"><span style="color:#333333\;"><span style="font-family:arial\,sans-serif\;"><span style="font-size:10.0pt\;">Chamber members are invited to participate in discussing issues regarding Growth &amp\; Land Use for our 2020 legislative agenda.</span></span></span></span>
LOCATION:Chandler Chamber of Commerce 25 S Arizona Place # 201 Chandler\, AZ 85225
UID:e.1561.36667
SEQUENCE:3
DTSTAMP:20260423T003818Z
URL:https://business.chandlerchamber.com/events/details/how-we-stand-roundtable-discussion-growth-land-use-36667
END:VEVENT

END:VCALENDAR
