BEGIN:VCALENDAR
VERSION:2.0
PRODID:-//ChamberMaster//Event Calendar 2.0//EN
METHOD:PUBLISH
X-PUBLISHED-TTL:P3D
REFRESH-INTERVAL:P3D
CALSCALE:GREGORIAN
BEGIN:VEVENT
DTSTART:20240614T163000Z
DTEND:20240614T163000Z
X-MICROSOFT-CDO-ALLDAYEVENT:FALSE
SUMMARY:"How We Stand" Roundtable - Economic Vitality & Expansion
DESCRIPTION:Economic Vitality & Expansion Roundtable\n\nFrom trade policies to collaboration within the city\, share your opinions with the Chandler Chamber at our June 14 Roundtable. Your voice will shape "How We Stand"\, our 2025 legislative document\, & will ensure that we best represent the Chandler business community.\n\nAs this event will be both in-person & over Zoom\, if you plan on virtually attending the Roundtable\, please indicate this preference on your registration.\n\n \n\nAbout "How We Stand"\n\nThe Chandler Chamber adopts public policies based on member's stances\, & takes direct positions on bills based on our annual "How We Stand" Legislative Document - a document shared with all local elected representatives.\n\nHelp us write this year's legislative agenda by attending our free roundtable discussions throughout June 2024.
X-ALT-DESC;FMTTYPE=text/html:<p><span style="font-size:18px\;"><span style="font-family:arial\;"><strong>Economic Vitality &amp\; Expansion Roundtable</strong></span></span></p>\n\n<p><span style="font-size:16px\;"><span style="font-family:arial\;">From trade policies to collaboration within the city\, share your opinions with the Chandler Chamber at our June 14 Roundtable. Your voice will shape &ldquo\;How We Stand&rdquo\;\, our 2025 legislative document\, &amp\; will ensure that we best represent the Chandler business community.</span></span></p>\n\n<p><span style="font-size:16px\;"><span style="font-family:arial\;">As this event will be both in-person &amp\; over Zoom\, if you plan on virtually attending the Roundtable\, please indicate this preference on your registration.</span></span><br />\n&nbsp\;</p>\n\n<p><span style="font-size:18px\;"><span style="font-family:arial\;"><strong>About &ldquo\;How We Stand&rdquo\;</strong></span></span></p>\n\n<p><span style="font-size:16px\;"><span style="font-family:arial\;">The Chandler Chamber adopts public policies based on member&rsquo\;s stances\, &amp\; takes direct positions on bills based on our annual &quot\;How We Stand&quot\; Legislative Document - a document shared with all local elected representatives.</span></span></p>\n\n<p><span style="font-size:16px\;"><span style="font-family:arial\;">Help us write this year&rsquo\;s legislative agenda by attending our free roundtable discussions throughout June 2024.</span></span></p>\n<!-- notionvc: 468324ed-0375-414c-8ba9-ea5ef19a819d -->
LOCATION:ASU Chandler Innovation Center 249 East Chicago Street Chandler\, Arizona 85225
UID:e.1561.50092
SEQUENCE:3
DTSTAMP:20260426T003718Z
URL:https://business.chandlerchamber.com/events/details/how-we-stand-roundtable-economic-vitality-expansion-50092
END:VEVENT

END:VCALENDAR
