BEGIN:VCALENDAR
VERSION:2.0
PRODID:-//ChamberMaster//Event Calendar 2.0//EN
METHOD:PUBLISH
X-PUBLISHED-TTL:P3D
REFRESH-INTERVAL:P3D
CALSCALE:GREGORIAN
BEGIN:VEVENT
DTSTART:20230608T150000Z
DTEND:20230608T160000Z
X-MICROSOFT-CDO-ALLDAYEVENT:FALSE
SUMMARY:HOW WE STAND Roundtable - Energy\, Water\, Utilities & Environment
DESCRIPTION:HOW WE STAND Roundtable - Energy\, Water\, Utilities & Environment\n\n\n\nAs a Chandler Chamber of Commerce member\, the Chamber advocates on your behalf to influence legislation that could benefit or hinder business. What policy issues are important to your business? You have an opportunity to provide feedback and contribute to the Chandler Chamber HOW WE STAND legislative agenda and policy positions for 2024.\n\n\n\nAttend a series of Roundtables to provide input on how the Chamber represents businesses on issues that affect your bottom line.\n\n \n\nMeetings will be hosted in-person and via Zoom\, please register and comment that you will attend virtually\, the link will be sent close to the date of the event.
X-ALT-DESC;FMTTYPE=text/html:<span style="font-size:14px\;"><strong>HOW WE STAND Roundtable - Energy\, Water\, Utilities &amp\; Environment</strong></span><br />\n<br />\nAs a Chandler Chamber of Commerce member\, the Chamber advocates on your behalf to influence legislation that could benefit or hinder business. What policy issues are important to your business? You have an opportunity to provide feedback and contribute to the Chandler Chamber HOW WE STAND legislative agenda and policy positions for 2024.<br />\n<br />\nAttend a series of Roundtables to provide input on how the Chamber represents businesses on issues that affect your bottom line.<br />\n&nbsp\;<br />\nMeetings will be hosted in-person and via Zoom\, please register and comment that you will attend virtually\, the link will be sent close to the date of the event.
LOCATION:ASU Chandler Innovation Center 249 E Chicago St Chandler\, AZ 85225
UID:e.1561.44711
SEQUENCE:3
DTSTAMP:20260421T065956Z
URL:https://business.chandlerchamber.com/events/details/how-we-stand-roundtable-energy-water-utilities-environment-44711
END:VEVENT

END:VCALENDAR
