BEGIN:VCALENDAR
VERSION:2.0
PRODID:-//ChamberMaster//Event Calendar 2.0//EN
METHOD:PUBLISH
X-PUBLISHED-TTL:P3D
REFRESH-INTERVAL:P3D
CALSCALE:GREGORIAN
BEGIN:VEVENT
DTSTART:20230621T160000Z
DTEND:20230621T170000Z
X-MICROSOFT-CDO-ALLDAYEVENT:FALSE
SUMMARY:HOW WE STAND Roundtable - Workforce\, Employer & Employee Relations
DESCRIPTION:HOW WE STAND Roundtable - Workforce\, Employer & Employee Relations\n\n\n\nAs a Chandler Chamber of Commerce member\, the Chamber advocates on your behalf to influence legislation that could benefit or hinder business. What policy issues are important to your business? You have an opportunity to provide feedback and contribute to the Chandler Chamber HOW WE STAND legislative agenda and policy positions for 2024.\n\n\n\nAttend a series of Roundtables to provide your input on how the Chamber represents our business members down at the legislature.\n\n \n\nMeetings will be hosted in-person and via Zoom\, please register and comment that you will attend virtually\, the link will be sent close to the date of the event.
X-ALT-DESC;FMTTYPE=text/html:<span style="font-size:14px\;"><strong>HOW WE STAND Roundtable - Workforce\, Employer &amp\; Employee Relations</strong></span><br />\n<br />\nAs a Chandler Chamber of Commerce member\, the Chamber advocates on your behalf to influence legislation that could benefit or hinder business. What policy issues are important to your business? You have an opportunity to provide feedback and contribute to the Chandler Chamber HOW WE STAND legislative agenda and policy positions for 2024.<br />\n<br />\nAttend a series of Roundtables to provide your input on how the Chamber represents our business members down at the legislature.<br />\n&nbsp\;<br />\nMeetings will be hosted in-person and via Zoom\, please register and comment that you will attend virtually\, the link will be sent close to the date of the event.
LOCATION:
UID:e.1561.44716
SEQUENCE:3
DTSTAMP:20260423T084452Z
URL:https://business.chandlerchamber.com/events/details/how-we-stand-roundtable-workforce-employer-employee-relations-44716
END:VEVENT

END:VCALENDAR
